BEGIN:VCALENDAR
VERSION:2.0
PRODID:-//Rome Art and Community Center - ECPv6.3.7//NONSGML v1.0//EN
CALSCALE:GREGORIAN
METHOD:PUBLISH
X-ORIGINAL-URL:https://romeart.org/home
X-WR-CALDESC:Events for Rome Art and Community Center
REFRESH-INTERVAL;VALUE=DURATION:PT1H
X-Robots-Tag:noindex
X-PUBLISHED-TTL:PT1H
BEGIN:VTIMEZONE
TZID:America/New_York
BEGIN:DAYLIGHT
TZOFFSETFROM:-0500
TZOFFSETTO:-0400
TZNAME:EDT
DTSTART:20240310T070000
END:DAYLIGHT
BEGIN:STANDARD
TZOFFSETFROM:-0400
TZOFFSETTO:-0500
TZNAME:EST
DTSTART:20241103T060000
END:STANDARD
END:VTIMEZONE
BEGIN:VEVENT
DTSTART;TZID=America/New_York:20240917T090000
DTEND;TZID=America/New_York:20240917T100000
DTSTAMP:20260421T012142
CREATED:20240830T002924Z
LAST-MODIFIED:20240830T003549Z
UID:10001131-1726563600-1726567200@romeart.org
SUMMARY:Office Hour | Marianne Buttenschon
DESCRIPTION:Assemblymember | Marianne Buttenschon | Assembly District 119\n📅Tuesday\, September 17 \n⌚9:00 am – 10:00 am \n🗺️Rome Art and Community Center \n\n\n\n\nOur Assemblywoman Marianne is bringing her mobile office hours to the Rome Art and Community Center this September! This is a great opportunity to meet with her and discuss any concerns or ideas you have for our community. Please note that sign-up is required to secure your time slot. Don’t miss this chance to connect with your local representative right here at the RACC!\n\nSIGN UP HERE
URL:https://romeart.org/home/event/office-hour-marianne-buttenschon/
LOCATION:Rome Art and Community Center\, 308 West Bloomfield St.\, Rome\, NY\, 13440\, United States
ATTACH;FMTTYPE=image/jpeg:https://romeart.org/wp-content/uploads/2024/08/images.jpg
END:VEVENT
BEGIN:VEVENT
DTSTART;TZID=America/New_York:20240917T180000
DTEND;TZID=America/New_York:20240917T200000
DTSTAMP:20260421T012142
CREATED:20240816T134137Z
LAST-MODIFIED:20240816T134223Z
UID:10001129-1726596000-1726603200@romeart.org
SUMMARY:Fall Sip and Paint with Andrea
DESCRIPTION:Tap into your creative side and grab the gang!\nPAINT & SIP fall theme!\nJoin Andrea and learn how to paint a lovely fall foliage painting. Class includes all supplies\, a drink\, and snacks. With over a decade of experience teaching and designing paintings for classes like these she makes it easy for anyone to create a beautiful work of art!\n\nBiography\nAndrea Grellman is a painter who has focused her art on landscapes and portraits of people and pets in oil\, acrylic\, and watercolors. She is a graduate of SUNY Oswego with a BA in Fine Art. After graduation\, she worked at Painting With A Twist as an instructor\, teaching people how to paint with acrylics. She also worked with the Painting With A Twist Corporate as a design artist to create new art for all the franchises nationally. Recently relocated to the Rome\, NY area\, Andrea has set up her own studio and is currently taking commissions and teaching privately. \n\n$40 for RACC members and\n$45 for RACC non-members\nSpace is Limited. Register Today.\n🎟️BUY TICKETS HERE
URL:https://romeart.org/home/event/fall-sip-and-paint-with-andrea/
LOCATION:Rome Art and Community Center\, 308 West Bloomfield St.\, Rome\, NY\, 13440\, United States
CATEGORIES:Class
ATTACH;FMTTYPE=image/jpeg:https://romeart.org/wp-content/uploads/2024/08/September-Sip-and-Paint-class-image-copyLOW.jpg
END:VEVENT
END:VCALENDAR