BEGIN:VCALENDAR
VERSION:2.0
PRODID:-//Rome Art and Community Center - ECPv6.3.7//NONSGML v1.0//EN
CALSCALE:GREGORIAN
METHOD:PUBLISH
X-ORIGINAL-URL:https://romeart.org/home
X-WR-CALDESC:Events for Rome Art and Community Center
REFRESH-INTERVAL;VALUE=DURATION:PT1H
X-Robots-Tag:noindex
X-PUBLISHED-TTL:PT1H
BEGIN:VTIMEZONE
TZID:America/New_York
BEGIN:DAYLIGHT
TZOFFSETFROM:-0500
TZOFFSETTO:-0400
TZNAME:EDT
DTSTART:20240310T070000
END:DAYLIGHT
BEGIN:STANDARD
TZOFFSETFROM:-0400
TZOFFSETTO:-0500
TZNAME:EST
DTSTART:20241103T060000
END:STANDARD
END:VTIMEZONE
BEGIN:VEVENT
DTSTART;TZID=America/New_York:20241206T190000
DTEND;TZID=America/New_York:20241206T210000
DTSTAMP:20260420T195122
CREATED:20241115T185358Z
LAST-MODIFIED:20241204T150428Z
UID:10001258-1733511600-1733518800@romeart.org
SUMMARY:Jewel Winds Christmas ( and Toy Drive)
DESCRIPTION:“Jewel Winds Christmas” returns to Rome Art and Community Center on Friday evening\, December 6 for a free\, community holiday concert. \nThe program is by arrangement with Alliance Classical Players and begins at 7 pm. It features many well-known holiday and seasonal selections. Lively and jazzy melodies such as We Need a Little Christmas\, The Most Wonderful Time of the Year\, and Rudolph the Red-Nosed Reindeer will be performed alongside familiar carols like Adeste Fideles\, In Dulci Jubilo\, Bring a Torch Jeannette Isabella\, God Rest You Merry Gentlemen\, and several more. This year\, Jewel Winds is joined by accomplished Syracuse-area pianist Robbie Padilla\, who will perform holiday piano solos as well as collaborations with the winds. \n“From Deck the Halls to We Wish You a Merry Christmas\, and everything in between\, this family-friendly concert will contain a great many seasonal favorites\,” noted Jewel Winds clarinetist\, Colleen O’Neil. “There is something for everyone to enjoy. The musical selections will be interspersed with poems reflecting the ambiance\, joy and humor of the season\, making the performance even more special. And\, capping off the evening\, there’s a post-concert reception to which all are invited.” \nThe musicians also note that Rome Art and Community Center looks even more beautiful than usual at this time of year\, as it is opulently decorated for the Christmas season. The performers can think of no better way to start off the month of December than to join them for this free concert event. \nJewel Winds is a long-standing group whose members are all musicians with Alliance Classical Players\, a professional chamber music ensemble based in Rome\, NY. Besides O’Neil\, the members of Jewel Winds performing this year are Cornelia Brewster\, flute; Janelle Bookhout\, oboe; and Judy Marchione\, bassoon. This event is made possible with the support of CNY Arts\, The Music Performance Trust Fund\, and The Sears Family Foundation. \nPLUS\, BRING A NEW\, UNWRAPPED TOY FOR CONNECTED COMMUNITY SHCOOLS  \nIn the spirit of the season\, Alliance Classical Players is hosting a toy drive to benefit Rome’s Connected Community Schools. According to its webpage\, CCS works to bring the community\, local agencies\, services\, organizations\, businesses\, and many more together to assist students and their families\, with their mission being to help them become healthy\, engaged\, productive citizens. Connected Community School’s main hub is in Rome\, where it was first started\, and helps with food\, clothing\, and more to all in need. Alliance Classical Players and Jewel Winds invite everyone who attends the concert to help make a child’s Christmas a little brighter by bringing a new\, unwrapped toy to donate. \nFor more information on this and other upcoming events\, visit Alliance Classical Players and Jewel Winds on Facebook\, or call Rome Art and Community Center at 315-336-1040. \nSPECIAL GUEST Robbie Padilla
URL:https://romeart.org/home/event/jewel-winds-christmas-and-toy-drive/
LOCATION:Rome Art and Community Center\, 308 West Bloomfield St.\, Rome\, NY\, 13440\, United States
CATEGORIES:Music
ATTACH;FMTTYPE=image/jpeg:https://romeart.org/wp-content/uploads/2024/11/Jewel-Winds-Christmas-Quartet-e1731697014482.jpg
END:VEVENT
END:VCALENDAR