BEGIN:VCALENDAR
VERSION:2.0
PRODID:-//Rome Art and Community Center - ECPv6.3.7//NONSGML v1.0//EN
CALSCALE:GREGORIAN
METHOD:PUBLISH
X-WR-CALNAME:Rome Art and Community Center
X-ORIGINAL-URL:https://romeart.org/home
X-WR-CALDESC:Events for Rome Art and Community Center
REFRESH-INTERVAL;VALUE=DURATION:PT1H
X-Robots-Tag:noindex
X-PUBLISHED-TTL:PT1H
BEGIN:VTIMEZONE
TZID:America/New_York
BEGIN:DAYLIGHT
TZOFFSETFROM:-0500
TZOFFSETTO:-0400
TZNAME:EDT
DTSTART:20250309T070000
END:DAYLIGHT
BEGIN:STANDARD
TZOFFSETFROM:-0400
TZOFFSETTO:-0500
TZNAME:EST
DTSTART:20251102T060000
END:STANDARD
END:VTIMEZONE
BEGIN:VEVENT
DTSTART;TZID=America/New_York:20250228T090000
DTEND;TZID=America/New_York:20250228T160000
DTSTAMP:20260420T141350
CREATED:20250205T204854Z
LAST-MODIFIED:20250205T204854Z
UID:10001965-1740733200-1740758400@romeart.org
SUMMARY:“Rome City School District Annual Art Show” | On Exhibit
DESCRIPTION:The Rome Art and Community Center (RACC) is proud to host the Rome City School District’s Annual Art Show\, showcasing the creativity of students in grades K-12. The exhibition will feature over 100 pieces of student artwork across various mediums\, celebrating the artistic talents of young artists in our community. \nThe exhibit will be on display daily from 9:00 AM to 4:00 PM through February 28. \nThis annual event provides a platform for young artists to share their work with the community\, fostering a love for the arts and creative expression. Don’t miss the opportunity to experience the vibrant and diverse artwork created by the talented students of the Rome City School District.
URL:https://romeart.org/home/event/rome-city-school-district-annual-art-show-on-exhibit/2025-02-28/
LOCATION:Rome Art and Community Center\, 308 West Bloomfield St.\, Rome\, NY\, 13440\, United States
END:VEVENT
END:VCALENDAR