BEGIN:VCALENDAR
VERSION:2.0
PRODID:-//Rome Art and Community Center - ECPv6.3.7//NONSGML v1.0//EN
CALSCALE:GREGORIAN
METHOD:PUBLISH
X-ORIGINAL-URL:https://romeart.org/home
X-WR-CALDESC:Events for Rome Art and Community Center
REFRESH-INTERVAL;VALUE=DURATION:PT1H
X-Robots-Tag:noindex
X-PUBLISHED-TTL:PT1H
BEGIN:VTIMEZONE
TZID:America/New_York
BEGIN:DAYLIGHT
TZOFFSETFROM:-0500
TZOFFSETTO:-0400
TZNAME:EDT
DTSTART:20250309T070000
END:DAYLIGHT
BEGIN:STANDARD
TZOFFSETFROM:-0400
TZOFFSETTO:-0500
TZNAME:EST
DTSTART:20251102T060000
END:STANDARD
END:VTIMEZONE
BEGIN:VEVENT
DTSTART;TZID=America/New_York:20250313T080000
DTEND;TZID=America/New_York:20250313T170000
DTSTAMP:20260420T140450
CREATED:20250123T153031Z
LAST-MODIFIED:20250206T175229Z
UID:10001204-1741852800-1741885200@romeart.org
SUMMARY:Homeschool Art Club
DESCRIPTION:The Rome Art and Community Center (RACC) is excited to announce a brand-new Homeschool Art Program starting Thursday\, February 27\, this 10 week program (Ending Thursday\, May 1) is tailored to engage young students in creative exploration through a dynamic and educational approach to art. Taught by certified K-12 teacher Sybil Preski\, this program promises to be an enriching experience for students across multiple grade levels. \nThe program is divided into three potential levels: \n\nFirst Elementary (Grades K-2): Students will explore self-expression\, environmental awareness\, and the elements of art. Projects will include self-portraits\, landscapes\, and nature-themed pieces\, integrating math skills and environmental science.\nSecond Level (Grades 3-6): Building on the foundation of the lower level\, students will delve deeper into art history\, study famous artists\, and create more sophisticated 2-D and 3-D art using various mediums including found objects\, oil pastels\, and clay.\nThird Level (Grades 7-12): Students will explore the elements of art and principles of design in-depth. They’ll study art styles\, artists\, and how art can be used for self-expression\, storytelling\, and influencing culture. A collaborative art project will culminate in a group exhibit.\n\nEach level of the program encourages creativity\, collaboration\, and cultural exploration\, culminating in a group art exhibit. The program is open to home-schooled students and will run for 10 weeks at $195 for the full program\, including supplies. \nREGISTER FORM
URL:https://romeart.org/home/event/homeschool-art-club-2/2025-03-13/
LOCATION:Rome Art and Community Center\, 308 West Bloomfield St.\, Rome\, NY\, 13440\, United States
CATEGORIES:Children's Events,Class,Games
ATTACH;FMTTYPE=image/jpeg:https://romeart.org/wp-content/uploads/2025/02/HSArtClub_24-25_Web_Event-copy-1.jpg
END:VEVENT
BEGIN:VEVENT
DTSTART;TZID=America/New_York:20250313T090000
DTEND;TZID=America/New_York:20250313T170000
DTSTAMP:20260420T140450
CREATED:20250205T164342Z
LAST-MODIFIED:20250223T203511Z
UID:10001664-1741856400-1741885200@romeart.org
SUMMARY:"Along the Curve" | On Exhibit
DESCRIPTION:WHAT IS “ALONG THE CURVE” \nThe Rome Art and Community Center held a Call for Art for group exhibition\, “Along the Curve.” \nThis was a free\, open-call\, non-juried\, salon-style exhibition inviting artists of all mediums to submit work exploring the theme of curves\, circles\, spirals\, and spheres. \nArtists were encouraged to creatively interpret the shape and symbolism of circles and curves in their work.
URL:https://romeart.org/home/event/along-the-curve-on-exhibit/2025-03-13/
LOCATION:Rome Art and Community Center\, 308 West Bloomfield St.\, Rome\, NY\, 13440\, United States
END:VEVENT
END:VCALENDAR