BEGIN:VCALENDAR
VERSION:2.0
PRODID:-//Rome Art and Community Center - ECPv6.3.7//NONSGML v1.0//EN
CALSCALE:GREGORIAN
METHOD:PUBLISH
X-WR-CALNAME:Rome Art and Community Center
X-ORIGINAL-URL:https://romeart.org/home
X-WR-CALDESC:Events for Rome Art and Community Center
REFRESH-INTERVAL;VALUE=DURATION:PT1H
X-Robots-Tag:noindex
X-PUBLISHED-TTL:PT1H
BEGIN:VTIMEZONE
TZID:America/New_York
BEGIN:DAYLIGHT
TZOFFSETFROM:-0500
TZOFFSETTO:-0400
TZNAME:EDT
DTSTART:20260308T070000
END:DAYLIGHT
BEGIN:STANDARD
TZOFFSETFROM:-0400
TZOFFSETTO:-0500
TZNAME:EST
DTSTART:20261101T060000
END:STANDARD
END:VTIMEZONE
BEGIN:VEVENT
DTSTART;TZID=America/New_York:20260302T183000
DTEND;TZID=America/New_York:20260302T203000
DTSTAMP:20260425T170337
CREATED:20260108T170623Z
LAST-MODIFIED:20260108T170623Z
UID:10002107-1772476200-1772483400@romeart.org
SUMMARY:The Mighty Craic at the RACC
DESCRIPTION:Enjoy “The Mighty Craic” at the RACC\, Monday\, March 2nd at 6:30 PM! \n“The Mighty Craic” is a collaboration by three of the area’s well known Irish musicians who have joined to celebrate and perform Irish Traditional Music\, as well as blending it with Americana\, Rock\, and Bluegrass to bring plenty of “Craic” to the music. (Craic is a Gaelic word\, with no exact English translation. The closest you get is “fun.”) \n$5 donation at the door\, drinks available for a donation! \nBiography:\nThe group consists of Jessica Hilterbrandt on percussion and accordion\, Amanda Straney on vocals and fiddle\, and Bill Fahy on vocals\, guitar\, and mandolin. \nJessica is currently a member of one of the area’s top Rock bands\, the Crazy Fools and past member of the Blarney Rebel Band. Jessica is a well-known drummer\, accomplished bodhran player\, and also plays the accordion . \nAmanda sings and plays the fiddle. In addition to performing with Mighty Craic she also plays with Craobh Dugan\, the Hamilton Orchestra\, Soldiers Joy\, and also was a past member of the Blarney Rebel Band. \nBill sings and plays guitar and mandolin and has been performing for over 20 years in Central NY – with the Summit Park Rangers\, Mohawk Valley Bluegrass\, and in Soldiers Joy with Amanda. \nThe band has played at many of the area’s leading music venues including performances at the Great American Irish Festival\, The Park Coffee House\, the Five Points Public House\, and The Rome Art and Community Center. \n“We love our Irish Roots\, but also enjoy Rock and Roll\, Bluegrass and Country. You’ll hear driving fiddle tunes\, pub songs\, ballads\, sea shanties\, and a whole lot more. The Craic will be mighty”
URL:https://romeart.org/home/event/the-mighty-craic-at-the-racc/
LOCATION:Rome Art and Community Center\, 308 West Bloomfield St.\, Rome\, NY\, 13440\, United States
CATEGORIES:Music
ATTACH;FMTTYPE=image/png:https://romeart.org/wp-content/uploads/2026/01/MarchMightyCraic-e1767891968673.png
END:VEVENT
BEGIN:VEVENT
DTSTART;TZID=America/New_York:20260309T183000
DTEND;TZID=America/New_York:20260309T203000
DTSTAMP:20260425T170337
CREATED:20260108T184244Z
LAST-MODIFIED:20260108T184324Z
UID:10002110-1773081000-1773088200@romeart.org
SUMMARY:MVBGA March Jam with the Band featuring "Cincinnati Creek"
DESCRIPTION:Join us on Monday\, March 9th at the Rome Art and Community Center for the Mohawk Valley Bluegrass Association March Jam with the Band featuring “Cincinnati Creek”.\n“Cincinnati Creek” is a CNY bluegrass group celebrated for its toe-tapping melodies\, tight three-part harmonies and inventive original tunes. With a reputation for enjoyable performances and lighthearted fun\, they bring both tradition and fresh creativity to every concert.\n\nThe concert will start at 6:30 PM followed by a Bluegrass jam session where anyone who plays acoustic Bluegrass instruments can join in\, so bring your instruments!\n$5 Donation at the door\, Drinks available for a donation.\n\n\nBiography:Since 2008\, Cincinnati Creek has been a fixture in Central New York’s live music scene. This band features seasoned musicians whose combined decades of experience span a diverse array of genres and performance settings.\nBandleader Lori Thompson sings lead and harmony vocals and plays the mandolin and guitar. Lori performs many original songs that are often inspired by local historical events. Her music was highlighted on the local TV program\, Mohawk Valley Living. Lori also has recorded 2 CDs of original material available at shows.\nChris Pepe plays the banjo and sings bass vocals in the band. In addition\, he is the band’s sound engineer.\nCathy Martin is the third founding member of the “Creek.” She plays the upright bass and sings lead and high harmony. Cathy had prior experience singing in the Remsen Community choir and playing piano.\nJoe Rowlands has been entertaining audiences in Central NY for some time. Joe is a founding member of the Irish folk group Rattlin’ Bog and has performed with the barbershop group Nothing Fancy. In addition to his humorous banter\, Joe plays harmonica and guitar for Cincinnati Creek and sings lead and harmony vocals.\nDrawing on their extensive backgrounds in bluegrass\, country\, and folk\, Cincinnati Creek tailors each performance to its setting—whether it’s an intimate gathering or a large-scale festival. Their tight arrangements and professional stage presence highlight both individual talent and cohesive group synergy. Cincinnati Creek stands ready to bring memorable musical concerts to audiences of all ages that are both entertaining and fun.
URL:https://romeart.org/home/event/mvbga-march-jam-with-the-band-featuring-cincinnati-creek/
LOCATION:Rome Art and Community Center\, 308 West Bloomfield St.\, Rome\, NY\, 13440\, United States
CATEGORIES:Music
ATTACH;FMTTYPE=image/png:https://romeart.org/wp-content/uploads/2026/01/MarchBluegrassCincinnatiCreek-e1767897758463.png
END:VEVENT
BEGIN:VEVENT
DTSTART;TZID=America/New_York:20260316T183000
DTEND;TZID=America/New_York:20260316T203000
DTSTAMP:20260425T170337
CREATED:20260122T184013Z
LAST-MODIFIED:20260122T185759Z
UID:10002439-1773685800-1773693000@romeart.org
SUMMARY:Trivium at the RACC
DESCRIPTION:Join us at the RACC on Monday\, March 16th\, at 6:30 PM for a lively classical and contemporary concert featuring Trivium\, a clarinet/French horn/piano trio comprised of Alliance Classical Players Colleen O’Neil\, Claire McKenney and Robbie Padilla. \nTrivium will perform works by Alec Wilder\, Gina Gillie\, Heinrich Molbe\, Friedrich Voigt\, Maximillian Heidrich and more\, including several pieces featuring the piano stylings of Robbie Padilla. The concert is sponsored by Alliance Classical Players and will be followed by complimentary desserts. \n$5 donation at the door. Drinks available for a donation.
URL:https://romeart.org/home/event/trivium-at-the-racc/
LOCATION:Rome Art and Community Center\, 308 West Bloomfield St.\, Rome\, NY\, 13440\, United States
CATEGORIES:Music
ATTACH;FMTTYPE=image/png:https://romeart.org/wp-content/uploads/2026/01/Concerts-e1769106447371.png
END:VEVENT
BEGIN:VEVENT
DTSTART;TZID=America/New_York:20260323T183000
DTEND;TZID=America/New_York:20260323T203000
DTSTAMP:20260425T170337
CREATED:20260122T183956Z
LAST-MODIFIED:20260122T184218Z
UID:10002438-1774290600-1774297800@romeart.org
SUMMARY:Music Monday with Collage Jazz
DESCRIPTION:Join us on Monday\, March 23rd\, at 6:30 PM for a concert with Collage Jazz.\nThis concert is FREE ADMISSION with drinks available for a donation!
URL:https://romeart.org/home/event/music-monday-with-collage-jazz-3/
LOCATION:Rome Art and Community Center\, 308 West Bloomfield St.\, Rome\, NY\, 13440\, United States
CATEGORIES:Music
ATTACH;FMTTYPE=image/png:https://romeart.org/wp-content/uploads/2026/01/Concerts-1-e1769107163172.png
END:VEVENT
BEGIN:VEVENT
DTSTART;TZID=America/New_York:20260330T183000
DTEND;TZID=America/New_York:20260330T203000
DTSTAMP:20260425T170337
CREATED:20260217T175521Z
LAST-MODIFIED:20260318T140607Z
UID:10002609-1774895400-1774902600@romeart.org
SUMMARY:The Lost Child: A Theatrical Musical Suite with Narration
DESCRIPTION:Join us at the Rome Art and Community Center for “The Lost Child: A Theatrical Musical Suite with Narration” Monday\, March 30th at 6:30 PM.   \n$5 donation at the door\, drinks available for a donation.  \n“The Lost Child: A Theatric Musical Suite with Narration” is composed by Joseph Karwacki and will be performed by the ensemble Punctum Originem. \nThe ensemble Punctum Originem is made up of Joseph Karwacki\, Double Bass/Composer\, Juliane Price\, Singer/Narrator\, Elizabeth Evans\, Flautist\, Sar-Shalom Strong\, Pianist\, and Matthew Rockwell\, Drummer. \nThe Lost Child is a 55-minute multi-movement suite that navigates the tension between human emotion and scientific inquiry\, the profound juxtaposition of Time\, Creation\, Memory\, and Science. \n  \nFeatured Artist Bios\nJoseph Karwacki (Double Bass/Composer): A graduate of the Ithaca College School of Music\, Joseph has served as Principal Bassist for the Utica Symphony Orchestra for over 40 years. Throughout a prolific career\, he has shared the stage with legends like Ella Fitzgerald\, Tony Bennett\, and Mstislav Rostropovich. As an educator and former president of Stage Music Piano Co.\, his compositions have been performed at national conventions and by members of the Syracuse Symphony. \nJuliane Price (Singer/Narrator): Award-winning opera soloist and violinist. Following a major European career on stage\, in film and voice-over\, she now lives and works in CNY with Symphoria\, Hamilton College\, and other entities from Jazz to Classic. \n  \nElizabeth Evans (Flute): An accomplished soloist and chamber musician\, Elizabeth is frequently featured in high-profile regional ensembles\, including the Alliance Classical Players. Known for her versatility across genres\, she has performed cornerstone works like Claude Bolling’s Suite for Flute and Jazz Piano. Her technical precision and expressive phrasing make her a vital voice in exploring the ethereal themes within The Lost Child. \nSar-Shalom Strong (Piano): A Lecturer in Piano at Hamilton College\, Sar-Shalom is a highly sought-after collaborative artist who has performed with  Symphoria . He is a core member of the Society for New Music and has recorded for the Innova and Naxos labels. A recipient of the Steinway Top Teacher Award\, he brings unparalleled harmonic depth to this suite. \nMatthew Rockwell (Drums): A Manhattan School of Music alumnus and owner of Anecdote Music Publications\, Matthew has over 30 years of experience across jazz\, rock\, and avant-garde styles. He has performed at Carnegie Recital Hall and collaborated with artists such as Natalie Cole. As the leader of the Matthew Rockwell Group\, he is a specialist in complex rhythmic training and contemporary percussion textures.
URL:https://romeart.org/home/event/the-lost-child-a-theatrical-musical-suite-with-narration/
LOCATION:Rome Art and Community Center\, 308 West Bloomfield St.\, Rome\, NY\, 13440\, United States
CATEGORIES:Music
ATTACH;FMTTYPE=image/png:https://romeart.org/wp-content/uploads/2026/02/MarchTheLostChildConcert-1-e1773238697771.png
END:VEVENT
END:VCALENDAR