BEGIN:VCALENDAR
VERSION:2.0
PRODID:-//Rome Art and Community Center - ECPv6.3.7//NONSGML v1.0//EN
CALSCALE:GREGORIAN
METHOD:PUBLISH
X-WR-CALNAME:Rome Art and Community Center
X-ORIGINAL-URL:https://romeart.org/home
X-WR-CALDESC:Events for Rome Art and Community Center
REFRESH-INTERVAL;VALUE=DURATION:PT1H
X-Robots-Tag:noindex
X-PUBLISHED-TTL:PT1H
BEGIN:VTIMEZONE
TZID:America/New_York
BEGIN:DAYLIGHT
TZOFFSETFROM:-0500
TZOFFSETTO:-0400
TZNAME:EDT
DTSTART:20260308T070000
END:DAYLIGHT
BEGIN:STANDARD
TZOFFSETFROM:-0400
TZOFFSETTO:-0500
TZNAME:EST
DTSTART:20261101T060000
END:STANDARD
END:VTIMEZONE
BEGIN:VEVENT
DTSTART;TZID=America/New_York:20260831T090000
DTEND;TZID=America/New_York:20260831T160000
DTSTAMP:20260420T031633
CREATED:20260205T182007Z
LAST-MODIFIED:20260205T182007Z
UID:10002597-1788166800-1788192000@romeart.org
SUMMARY:Art from the Imagination | Art Exhibition
DESCRIPTION:“Art from the Imagination” is a celebration of creativity without boundaries—a collective exploration of the limitless landscapes that exist within the human mind. This open-themed exhibition invites artists to share works born from personal vision\, emotion\, and curiosity\, offering a glimpse into the diverse ways imagination takes form. Each piece in this exhibition stands as a testament to the power of artistic freedom\, where technique meets intuition and concept merges with expression. From abstract compositions to surreal narratives\, from vivid color studies to quiet reflections\, the works presented reveal the unique voices of their creators and the infinite possibilities of artistic thought. “Art from the Imagination” encourages viewers to step beyond the familiar and engage with the unexpected. It is an invitation to experience art as a journey—one that begins in the artist’s mind and continues in the imagination of every observer. \nExhibition Dates: August 20 to September 11
URL:https://romeart.org/home/event/art-from-the-imagination-art-exhibition/2026-08-31/
LOCATION:Rome Art and Community Center\, 308 West Bloomfield St.\, Rome\, NY\, 13440\, United States
CATEGORIES:Art Exhibitions
ATTACH;FMTTYPE=image/png:https://romeart.org/wp-content/uploads/2026/02/Art-Imagination-e1770315528226.png
END:VEVENT
BEGIN:VEVENT
DTSTART;TZID=America/New_York:20260901T090000
DTEND;TZID=America/New_York:20260901T160000
DTSTAMP:20260420T031633
CREATED:20260205T182007Z
LAST-MODIFIED:20260205T182007Z
UID:10002598-1788253200-1788278400@romeart.org
SUMMARY:Art from the Imagination | Art Exhibition
DESCRIPTION:“Art from the Imagination” is a celebration of creativity without boundaries—a collective exploration of the limitless landscapes that exist within the human mind. This open-themed exhibition invites artists to share works born from personal vision\, emotion\, and curiosity\, offering a glimpse into the diverse ways imagination takes form. Each piece in this exhibition stands as a testament to the power of artistic freedom\, where technique meets intuition and concept merges with expression. From abstract compositions to surreal narratives\, from vivid color studies to quiet reflections\, the works presented reveal the unique voices of their creators and the infinite possibilities of artistic thought. “Art from the Imagination” encourages viewers to step beyond the familiar and engage with the unexpected. It is an invitation to experience art as a journey—one that begins in the artist’s mind and continues in the imagination of every observer. \nExhibition Dates: August 20 to September 11
URL:https://romeart.org/home/event/art-from-the-imagination-art-exhibition/2026-09-01/
LOCATION:Rome Art and Community Center\, 308 West Bloomfield St.\, Rome\, NY\, 13440\, United States
CATEGORIES:Art Exhibitions
ATTACH;FMTTYPE=image/png:https://romeart.org/wp-content/uploads/2026/02/Art-Imagination-e1770315528226.png
END:VEVENT
BEGIN:VEVENT
DTSTART;TZID=America/New_York:20260902T090000
DTEND;TZID=America/New_York:20260902T160000
DTSTAMP:20260420T031633
CREATED:20260205T182007Z
LAST-MODIFIED:20260205T182007Z
UID:10002599-1788339600-1788364800@romeart.org
SUMMARY:Art from the Imagination | Art Exhibition
DESCRIPTION:“Art from the Imagination” is a celebration of creativity without boundaries—a collective exploration of the limitless landscapes that exist within the human mind. This open-themed exhibition invites artists to share works born from personal vision\, emotion\, and curiosity\, offering a glimpse into the diverse ways imagination takes form. Each piece in this exhibition stands as a testament to the power of artistic freedom\, where technique meets intuition and concept merges with expression. From abstract compositions to surreal narratives\, from vivid color studies to quiet reflections\, the works presented reveal the unique voices of their creators and the infinite possibilities of artistic thought. “Art from the Imagination” encourages viewers to step beyond the familiar and engage with the unexpected. It is an invitation to experience art as a journey—one that begins in the artist’s mind and continues in the imagination of every observer. \nExhibition Dates: August 20 to September 11
URL:https://romeart.org/home/event/art-from-the-imagination-art-exhibition/2026-09-02/
LOCATION:Rome Art and Community Center\, 308 West Bloomfield St.\, Rome\, NY\, 13440\, United States
CATEGORIES:Art Exhibitions
ATTACH;FMTTYPE=image/png:https://romeart.org/wp-content/uploads/2026/02/Art-Imagination-e1770315528226.png
END:VEVENT
BEGIN:VEVENT
DTSTART;TZID=America/New_York:20260903T090000
DTEND;TZID=America/New_York:20260903T160000
DTSTAMP:20260420T031633
CREATED:20260205T182007Z
LAST-MODIFIED:20260205T182007Z
UID:10002600-1788426000-1788451200@romeart.org
SUMMARY:Art from the Imagination | Art Exhibition
DESCRIPTION:“Art from the Imagination” is a celebration of creativity without boundaries—a collective exploration of the limitless landscapes that exist within the human mind. This open-themed exhibition invites artists to share works born from personal vision\, emotion\, and curiosity\, offering a glimpse into the diverse ways imagination takes form. Each piece in this exhibition stands as a testament to the power of artistic freedom\, where technique meets intuition and concept merges with expression. From abstract compositions to surreal narratives\, from vivid color studies to quiet reflections\, the works presented reveal the unique voices of their creators and the infinite possibilities of artistic thought. “Art from the Imagination” encourages viewers to step beyond the familiar and engage with the unexpected. It is an invitation to experience art as a journey—one that begins in the artist’s mind and continues in the imagination of every observer. \nExhibition Dates: August 20 to September 11
URL:https://romeart.org/home/event/art-from-the-imagination-art-exhibition/2026-09-03/
LOCATION:Rome Art and Community Center\, 308 West Bloomfield St.\, Rome\, NY\, 13440\, United States
CATEGORIES:Art Exhibitions
ATTACH;FMTTYPE=image/png:https://romeart.org/wp-content/uploads/2026/02/Art-Imagination-e1770315528226.png
END:VEVENT
BEGIN:VEVENT
DTSTART;TZID=America/New_York:20260904T090000
DTEND;TZID=America/New_York:20260904T140000
DTSTAMP:20260420T031633
CREATED:20260205T182149Z
LAST-MODIFIED:20260205T182149Z
UID:10002601-1788512400-1788530400@romeart.org
SUMMARY:Art from the Imagination | Art Exhibition
DESCRIPTION:“Art from the Imagination” is a celebration of creativity without boundaries—a collective exploration of the limitless landscapes that exist within the human mind. This open-themed exhibition invites artists to share works born from personal vision\, emotion\, and curiosity\, offering a glimpse into the diverse ways imagination takes form. Each piece in this exhibition stands as a testament to the power of artistic freedom\, where technique meets intuition and concept merges with expression. From abstract compositions to surreal narratives\, from vivid color studies to quiet reflections\, the works presented reveal the unique voices of their creators and the infinite possibilities of artistic thought. “Art from the Imagination” encourages viewers to step beyond the familiar and engage with the unexpected. It is an invitation to experience art as a journey—one that begins in the artist’s mind and continues in the imagination of every observer. \nExhibition Dates: August 20 to September 11
URL:https://romeart.org/home/event/art-from-the-imagination-art-exhibition-3/
LOCATION:Rome Art and Community Center\, 308 West Bloomfield St.\, Rome\, NY\, 13440\, United States
CATEGORIES:Art Exhibitions
ATTACH;FMTTYPE=image/png:https://romeart.org/wp-content/uploads/2026/02/Art-Imagination-e1770315528226.png
END:VEVENT
BEGIN:VEVENT
DTSTART;TZID=America/New_York:20260905T100000
DTEND;TZID=America/New_York:20260905T120000
DTSTAMP:20260420T031633
CREATED:20260416T140114Z
LAST-MODIFIED:20260416T140115Z
UID:10002626-1788602400-1788609600@romeart.org
SUMMARY:Music\, Stories\, and Art –  Adventures with Mother Goose
DESCRIPTION:Join us for a morning of lively music\, reading of Adventures with Mother Goose\, and a fun art project on Saturday\, September 5th from 10:00 am to 12:00 pm! \nThese mornings of art are open to the public and FREE!! \nThese fun summer morning events are designed for preschool to early elementary-age children and families. \nMusic will be performed by Colleen O’Neil (clarinet)\, Claire McKenney (French horn)\, and Abel Searor (piano). \nEach concert starts at 10:00 am and includes a narrated story with music. The concerts are followed by an art project led by RACC’s instructors.
URL:https://romeart.org/home/event/music-stories-and-art-adventures-with-mother-goose/
LOCATION:Rome Art and Community Center\, 308 West Bloomfield St.\, Rome\, NY\, 13440\, United States
CATEGORIES:Children's Programming
ATTACH;FMTTYPE=image/png:https://romeart.org/wp-content/uploads/2026/04/MSASeptember-MotherGoose.png
END:VEVENT
BEGIN:VEVENT
DTSTART;TZID=America/New_York:20260907T090000
DTEND;TZID=America/New_York:20260907T160000
DTSTAMP:20260420T031633
CREATED:20260205T182007Z
LAST-MODIFIED:20260205T182007Z
UID:10002602-1788771600-1788796800@romeart.org
SUMMARY:Art from the Imagination | Art Exhibition
DESCRIPTION:“Art from the Imagination” is a celebration of creativity without boundaries—a collective exploration of the limitless landscapes that exist within the human mind. This open-themed exhibition invites artists to share works born from personal vision\, emotion\, and curiosity\, offering a glimpse into the diverse ways imagination takes form. Each piece in this exhibition stands as a testament to the power of artistic freedom\, where technique meets intuition and concept merges with expression. From abstract compositions to surreal narratives\, from vivid color studies to quiet reflections\, the works presented reveal the unique voices of their creators and the infinite possibilities of artistic thought. “Art from the Imagination” encourages viewers to step beyond the familiar and engage with the unexpected. It is an invitation to experience art as a journey—one that begins in the artist’s mind and continues in the imagination of every observer. \nExhibition Dates: August 20 to September 11
URL:https://romeart.org/home/event/art-from-the-imagination-art-exhibition/2026-09-07/
LOCATION:Rome Art and Community Center\, 308 West Bloomfield St.\, Rome\, NY\, 13440\, United States
CATEGORIES:Art Exhibitions
ATTACH;FMTTYPE=image/png:https://romeart.org/wp-content/uploads/2026/02/Art-Imagination-e1770315528226.png
END:VEVENT
BEGIN:VEVENT
DTSTART;TZID=America/New_York:20260908T090000
DTEND;TZID=America/New_York:20260908T160000
DTSTAMP:20260420T031633
CREATED:20260205T182007Z
LAST-MODIFIED:20260205T182007Z
UID:10002603-1788858000-1788883200@romeart.org
SUMMARY:Art from the Imagination | Art Exhibition
DESCRIPTION:“Art from the Imagination” is a celebration of creativity without boundaries—a collective exploration of the limitless landscapes that exist within the human mind. This open-themed exhibition invites artists to share works born from personal vision\, emotion\, and curiosity\, offering a glimpse into the diverse ways imagination takes form. Each piece in this exhibition stands as a testament to the power of artistic freedom\, where technique meets intuition and concept merges with expression. From abstract compositions to surreal narratives\, from vivid color studies to quiet reflections\, the works presented reveal the unique voices of their creators and the infinite possibilities of artistic thought. “Art from the Imagination” encourages viewers to step beyond the familiar and engage with the unexpected. It is an invitation to experience art as a journey—one that begins in the artist’s mind and continues in the imagination of every observer. \nExhibition Dates: August 20 to September 11
URL:https://romeart.org/home/event/art-from-the-imagination-art-exhibition/2026-09-08/
LOCATION:Rome Art and Community Center\, 308 West Bloomfield St.\, Rome\, NY\, 13440\, United States
CATEGORIES:Art Exhibitions
ATTACH;FMTTYPE=image/png:https://romeart.org/wp-content/uploads/2026/02/Art-Imagination-e1770315528226.png
END:VEVENT
BEGIN:VEVENT
DTSTART;TZID=America/New_York:20260909T090000
DTEND;TZID=America/New_York:20260909T160000
DTSTAMP:20260420T031633
CREATED:20260205T182007Z
LAST-MODIFIED:20260205T182007Z
UID:10002604-1788944400-1788969600@romeart.org
SUMMARY:Art from the Imagination | Art Exhibition
DESCRIPTION:“Art from the Imagination” is a celebration of creativity without boundaries—a collective exploration of the limitless landscapes that exist within the human mind. This open-themed exhibition invites artists to share works born from personal vision\, emotion\, and curiosity\, offering a glimpse into the diverse ways imagination takes form. Each piece in this exhibition stands as a testament to the power of artistic freedom\, where technique meets intuition and concept merges with expression. From abstract compositions to surreal narratives\, from vivid color studies to quiet reflections\, the works presented reveal the unique voices of their creators and the infinite possibilities of artistic thought. “Art from the Imagination” encourages viewers to step beyond the familiar and engage with the unexpected. It is an invitation to experience art as a journey—one that begins in the artist’s mind and continues in the imagination of every observer. \nExhibition Dates: August 20 to September 11
URL:https://romeart.org/home/event/art-from-the-imagination-art-exhibition/2026-09-09/
LOCATION:Rome Art and Community Center\, 308 West Bloomfield St.\, Rome\, NY\, 13440\, United States
CATEGORIES:Art Exhibitions
ATTACH;FMTTYPE=image/png:https://romeart.org/wp-content/uploads/2026/02/Art-Imagination-e1770315528226.png
END:VEVENT
BEGIN:VEVENT
DTSTART;TZID=America/New_York:20260910T090000
DTEND;TZID=America/New_York:20260910T160000
DTSTAMP:20260420T031633
CREATED:20260205T182007Z
LAST-MODIFIED:20260205T182007Z
UID:10002605-1789030800-1789056000@romeart.org
SUMMARY:Art from the Imagination | Art Exhibition
DESCRIPTION:“Art from the Imagination” is a celebration of creativity without boundaries—a collective exploration of the limitless landscapes that exist within the human mind. This open-themed exhibition invites artists to share works born from personal vision\, emotion\, and curiosity\, offering a glimpse into the diverse ways imagination takes form. Each piece in this exhibition stands as a testament to the power of artistic freedom\, where technique meets intuition and concept merges with expression. From abstract compositions to surreal narratives\, from vivid color studies to quiet reflections\, the works presented reveal the unique voices of their creators and the infinite possibilities of artistic thought. “Art from the Imagination” encourages viewers to step beyond the familiar and engage with the unexpected. It is an invitation to experience art as a journey—one that begins in the artist’s mind and continues in the imagination of every observer. \nExhibition Dates: August 20 to September 11
URL:https://romeart.org/home/event/art-from-the-imagination-art-exhibition/2026-09-10/
LOCATION:Rome Art and Community Center\, 308 West Bloomfield St.\, Rome\, NY\, 13440\, United States
CATEGORIES:Art Exhibitions
ATTACH;FMTTYPE=image/png:https://romeart.org/wp-content/uploads/2026/02/Art-Imagination-e1770315528226.png
END:VEVENT
BEGIN:VEVENT
DTSTART;TZID=America/New_York:20260911T090000
DTEND;TZID=America/New_York:20260911T140000
DTSTAMP:20260420T031633
CREATED:20260205T182121Z
LAST-MODIFIED:20260205T182121Z
UID:10002606-1789117200-1789135200@romeart.org
SUMMARY:Art from the Imagination | Art Exhibition
DESCRIPTION:“Art from the Imagination” is a celebration of creativity without boundaries—a collective exploration of the limitless landscapes that exist within the human mind. This open-themed exhibition invites artists to share works born from personal vision\, emotion\, and curiosity\, offering a glimpse into the diverse ways imagination takes form. Each piece in this exhibition stands as a testament to the power of artistic freedom\, where technique meets intuition and concept merges with expression. From abstract compositions to surreal narratives\, from vivid color studies to quiet reflections\, the works presented reveal the unique voices of their creators and the infinite possibilities of artistic thought. “Art from the Imagination” encourages viewers to step beyond the familiar and engage with the unexpected. It is an invitation to experience art as a journey—one that begins in the artist’s mind and continues in the imagination of every observer. \nExhibition Dates: August 20 to September 11
URL:https://romeart.org/home/event/art-from-the-imagination-art-exhibition-2/
LOCATION:Rome Art and Community Center\, 308 West Bloomfield St.\, Rome\, NY\, 13440\, United States
CATEGORIES:Art Exhibitions
ATTACH;FMTTYPE=image/png:https://romeart.org/wp-content/uploads/2026/02/Art-Imagination-e1770315528226.png
END:VEVENT
END:VCALENDAR