BEGIN:VCALENDAR
VERSION:2.0
PRODID:-//Rome Art and Community Center - ECPv6.3.7//NONSGML v1.0//EN
CALSCALE:GREGORIAN
METHOD:PUBLISH
X-ORIGINAL-URL:https://romeart.org/home
X-WR-CALDESC:Events for Rome Art and Community Center
REFRESH-INTERVAL;VALUE=DURATION:PT1H
X-Robots-Tag:noindex
X-PUBLISHED-TTL:PT1H
BEGIN:VTIMEZONE
TZID:America/New_York
BEGIN:DAYLIGHT
TZOFFSETFROM:-0500
TZOFFSETTO:-0400
TZNAME:EDT
DTSTART:20240310T070000
END:DAYLIGHT
BEGIN:STANDARD
TZOFFSETFROM:-0400
TZOFFSETTO:-0500
TZNAME:EST
DTSTART:20241103T060000
END:STANDARD
END:VTIMEZONE
BEGIN:VEVENT
DTSTART;TZID=America/New_York:20240802T190000
DTEND;TZID=America/New_York:20240802T210000
DTSTAMP:20260425T183831
CREATED:20240731T150411Z
LAST-MODIFIED:20240731T151113Z
UID:10001065-1722625200-1722632400@romeart.org
SUMMARY:Alliance Classical Players Concert
DESCRIPTION:Alliance Classical Players Concert | Friday\, August 2 | 7p – 9p | FREE\nAlliance Classical Players celebrates its tenth year of concerts with a lively program that includes music of Beethoven\, Gounod and Jacob\, ten special door prizes\, and a complimentary post-concert reception. \nWe hope you’ll join us in the beautiful living room at Rome Art and Community Center for this special event! \nIt is free and open to the public. This event is supported by The Sears Family Foundation\, CNY Arts and the Music Performance Trust Fund. \nDonation/Cash Bar | Bring your lawn chairs | Rain or Shine
URL:https://romeart.org/home/event/alliance-classical-players-concert/
LOCATION:Rome Art and Community Center\, 308 West Bloomfield St.\, Rome\, NY\, 13440\, United States
CATEGORIES:Music
ATTACH;FMTTYPE=image/jpeg:https://romeart.org/wp-content/uploads/2024/07/Alliance-Classical-Players.jpg
END:VEVENT
BEGIN:VEVENT
DTSTART;TZID=America/New_York:20240803T100000
DTEND;TZID=America/New_York:20240803T233000
DTSTAMP:20260425T183831
CREATED:20240731T160653Z
LAST-MODIFIED:20240731T160653Z
UID:10001066-1722679200-1722727800@romeart.org
SUMMARY:Music\, Stories\, and Art Saturday
DESCRIPTION:Music\, Stories\, and Art | Saturday\, August 3 | 10a – 11:30a\nAlliance Classical Players presents Music\, Stories and Crafts! \nJoin us while we narrate PETE THE CAT\, with music by Collage Jazz Combo followed by an artistic craft project.
URL:https://romeart.org/home/event/music-stories-and-art-saturday/
LOCATION:Rome Art and Community Center\, 308 West Bloomfield St.\, Rome\, NY\, 13440\, United States
CATEGORIES:Music
END:VEVENT
BEGIN:VEVENT
DTSTART;TZID=America/New_York:20240807T183000
DTEND;TZID=America/New_York:20240807T200000
DTSTAMP:20260425T183831
CREATED:20240618T170625Z
LAST-MODIFIED:20240618T170625Z
UID:10001046-1723055400-1723060800@romeart.org
SUMMARY:Line Dancing Class
DESCRIPTION:Every Wednesday in August at 6:30pm-8:00pm$10 for a class$35 for the whole month when you sign up in advance\nEveryone is welcome and no partner is necessary to attend our dance classes!\nCome dance in an atmosphere that fits beginners and intermediate dancers. Our instructor Kim Ocuto will lead the class creating a fun and enjoyable atmosphere to learn line dancing.
URL:https://romeart.org/home/event/line-dancing-class/
LOCATION:Rome Art and Community Center\, 308 West Bloomfield St.\, Rome\, NY\, 13440\, United States
CATEGORIES:dance
END:VEVENT
BEGIN:VEVENT
DTSTART;TZID=America/New_York:20240808T173000
DTEND;TZID=America/New_York:20240808T193000
DTSTAMP:20260425T183831
CREATED:20240801T174211Z
LAST-MODIFIED:20240801T174916Z
UID:10001067-1723138200-1723145400@romeart.org
SUMMARY:Opening Reception - Central New York Watercolor Society
DESCRIPTION:Opening Reception for the Central New York Watercolor Society |  Thursday\, August 8 | 5:30p – 7:30p\nYou are invited for the opening reception of the Central New York Watercolor Society’s exhibition at the Rome Art and Community Center. This captivating exhibition will showcase the vibrant and diverse works of talented watercolor artists from across the region. \nMeet the artists\, explore their techniques\, and enjoy an evening of art and conversation.  Light refreshments will be served with donation/cash bar.\nThe exhibition will be on display from August 8th to September 13th. \nFor more information and hours of operation\, please visit RomeArt.org.
URL:https://romeart.org/home/event/opening-reception-central-new-york-water-color-society/
LOCATION:Rome Art and Community Center\, 308 West Bloomfield St.\, Rome\, NY\, 13440\, United States
CATEGORIES:Exhibition Opening
ATTACH;FMTTYPE=image/jpeg:https://romeart.org/wp-content/uploads/2024/08/unnamed-1-e1722534252978.jpg
END:VEVENT
BEGIN:VEVENT
DTSTART;TZID=America/New_York:20240809T180000
DTEND;TZID=America/New_York:20240809T200000
DTSTAMP:20260425T183831
CREATED:20240731T142828Z
LAST-MODIFIED:20240731T151003Z
UID:10001064-1723226400-1723233600@romeart.org
SUMMARY:The Country Gentlemen Tribute Band | Bluegrass
DESCRIPTION:Friday\, August 9 | 6p – 8p | FREE EVENT\nSit back and enjoy live Bluegrass Music by The Country Gentlemen Tribute Band! \nFounded by original Country Gentlemen member Bill Yates the band is true to the tradition of the original band and their set list is full of Bluegrass classics. \nDonation/Cash Bar | Bring your lawn chairs | Rain or Shine
URL:https://romeart.org/home/event/the-country-gentlemen-tribute-band-bluegrass/
LOCATION:Rome Art and Community Center\, 308 West Bloomfield St.\, Rome\, NY\, 13440\, United States
CATEGORIES:Music
ATTACH;FMTTYPE=image/jpeg:https://romeart.org/wp-content/uploads/2024/07/The-Country-Gentlemen-Tribute-Band-_-Photo.jpeg
END:VEVENT
BEGIN:VEVENT
DTSTART;TZID=America/New_York:20240812T160000
DTEND;TZID=America/New_York:20240812T200000
DTSTAMP:20260425T183831
CREATED:20240806T182722Z
LAST-MODIFIED:20240806T183344Z
UID:10000243-1723478400-1723492800@romeart.org
SUMMARY:Market\, Music\, and More...
DESCRIPTION:For summer of 2024 we are expanding our Monday night offerings!!  We will be having live music\, children’s activities\, vendors\, and food trucks from 4-8pm every Monday from June through September.  Stay tuned to for more details. \nWe are still looking for vendors\, musicians\, sponsors\, and anyone who is interested in volunteering on the committee for planning!  For more information please email marketing@romeart.org. \nVendor Registration Form\nVendor Payment Link \n  \n 
URL:https://romeart.org/home/event/market-music-and-more-2/2024-08-12/
LOCATION:Rome Art and Community Center\, 308 West Bloomfield St.\, Rome\, NY\, 13440\, United States
CATEGORIES:Children's Events,Music
END:VEVENT
BEGIN:VEVENT
DTSTART;TZID=America/New_York:20240813T183000
DTEND;TZID=America/New_York:20240813T200000
DTSTAMP:20260425T183831
CREATED:20240809T175733Z
LAST-MODIFIED:20240809T181201Z
UID:10001070-1723573800-1723579200@romeart.org
SUMMARY:Beyond the Words: Adult Acting Class with Suzanne Murdock Rodio
DESCRIPTION:Step into the world of workshops/classes\, where each session is meticulously crafted to unlock the potential within every participant. Whether you’re a seasoned actor looking to refine your skills or a beginner eager to embark on the acting journey\, tailored workshops cater to diverse skill levels. \n\nDates: Tuesdays\, August 6\, 13\, 20Time: 6:30pm – 8:00pmCost: $90 (3 sessions\, 4.5 hours)$40 per single classWhere: Rome Arts & Community Center308 W. Bloomfield St\, Rome\, NY\n\n Key Features:Interactive Learning: Immerse yourself in hands-on exercises\, scene studies\, and improvisation that build an understanding of acting techniques as well as improving communication\, listening\, focus\, empathy\, teamwork\, creativity and confidence.\nPersonalized Feedback: Benefit from individualized feedback and constructive critiques\, tailored to amplify your unique strengths and goals for growth.\n Suzanne Murdock Rodio is not only an actor with a passion for the craft\, but an inspirational guide in the theater realm. Drawing from her experiences on stage\, training and education\, she will guide you in building a solid foundation through acting techniques\, developing self-confidence\, and improving communication skills. Suzanne possesses a deep understanding of human behavior and nuances that will elevate performances through empowering classes and workshops.\nOver decades\, Suzanne has performed in Central New York as well as in Germany and at Scotland’s Edinburgh Fringe Festival. She has been acknowledged by the Theater of New York State with acting and directing awards\, performing at the TANYS festival and Eastern States Theater Association’s Festival. She is recognized for her outstanding contributions in the world of theater and setting a high standard for excellence.\nAt the center of Suzanne’s teaching philosophy is a belief in the transformative power of acting. She is dedicated to nurturing not just the technical skills of her students but also their emotional intelligence and artistic expression. Suzanne fosters a supportive and collaborative learning environment\, encouraging students to explore their creativity and take risks in a safe space.\n\nFacebook Event | August 13    Facebook Event | August 20\n\nREGISTER HERE
URL:https://romeart.org/home/event/beyond-the-words-adult-acting-class-with-suzanne-murdock-rodio/2024-08-13/
LOCATION:Rome Art and Community Center\, 308 West Bloomfield St.\, Rome\, NY\, 13440\, United States
CATEGORIES:Class
ATTACH;FMTTYPE=image/jpeg:https://romeart.org/wp-content/uploads/2024/08/450479991_122156648828155310_4170853153800991945_n-e1723227105798.jpg
END:VEVENT
BEGIN:VEVENT
DTSTART;TZID=America/New_York:20240814T183000
DTEND;TZID=America/New_York:20240814T200000
DTSTAMP:20260425T183831
CREATED:20240618T170719Z
LAST-MODIFIED:20240618T170719Z
UID:10001047-1723660200-1723665600@romeart.org
SUMMARY:Line Dancing Class
DESCRIPTION:Every Wednesday in August at 6:30pm-8:00pm$10 for a class$35 for the whole month when you sign up in advance\nEveryone is welcome and no partner is necessary to attend our dance classes!\nCome dance in an atmosphere that fits beginners and intermediate dancers. Our instructor Kim Ocuto will lead the class creating a fun and enjoyable atmosphere to learn line dancing.
URL:https://romeart.org/home/event/line-dancing-class-2/
LOCATION:Rome Art and Community Center\, 308 West Bloomfield St.\, Rome\, NY\, 13440\, United States
CATEGORIES:dance
END:VEVENT
BEGIN:VEVENT
DTSTART;TZID=America/New_York:20240819T160000
DTEND;TZID=America/New_York:20240819T200000
DTSTAMP:20260425T183831
CREATED:20240806T182722Z
LAST-MODIFIED:20240806T183344Z
UID:10001068-1724083200-1724097600@romeart.org
SUMMARY:Market\, Music\, and More...
DESCRIPTION:For summer of 2024 we are expanding our Monday night offerings!!  We will be having live music\, children’s activities\, vendors\, and food trucks from 4-8pm every Monday from June through September.  Stay tuned to for more details. \nWe are still looking for vendors\, musicians\, sponsors\, and anyone who is interested in volunteering on the committee for planning!  For more information please email marketing@romeart.org. \nVendor Registration Form\nVendor Payment Link \n  \n 
URL:https://romeart.org/home/event/market-music-and-more-2/2024-08-19/
LOCATION:Rome Art and Community Center\, 308 West Bloomfield St.\, Rome\, NY\, 13440\, United States
CATEGORIES:Children's Events,Music
END:VEVENT
BEGIN:VEVENT
DTSTART;TZID=America/New_York:20240820T183000
DTEND;TZID=America/New_York:20240820T200000
DTSTAMP:20260425T183831
CREATED:20240809T175733Z
LAST-MODIFIED:20240809T181201Z
UID:10001071-1724178600-1724184000@romeart.org
SUMMARY:Beyond the Words: Adult Acting Class with Suzanne Murdock Rodio
DESCRIPTION:Step into the world of workshops/classes\, where each session is meticulously crafted to unlock the potential within every participant. Whether you’re a seasoned actor looking to refine your skills or a beginner eager to embark on the acting journey\, tailored workshops cater to diverse skill levels. \n\nDates: Tuesdays\, August 6\, 13\, 20Time: 6:30pm – 8:00pmCost: $90 (3 sessions\, 4.5 hours)$40 per single classWhere: Rome Arts & Community Center308 W. Bloomfield St\, Rome\, NY\n\n Key Features:Interactive Learning: Immerse yourself in hands-on exercises\, scene studies\, and improvisation that build an understanding of acting techniques as well as improving communication\, listening\, focus\, empathy\, teamwork\, creativity and confidence.\nPersonalized Feedback: Benefit from individualized feedback and constructive critiques\, tailored to amplify your unique strengths and goals for growth.\n Suzanne Murdock Rodio is not only an actor with a passion for the craft\, but an inspirational guide in the theater realm. Drawing from her experiences on stage\, training and education\, she will guide you in building a solid foundation through acting techniques\, developing self-confidence\, and improving communication skills. Suzanne possesses a deep understanding of human behavior and nuances that will elevate performances through empowering classes and workshops.\nOver decades\, Suzanne has performed in Central New York as well as in Germany and at Scotland’s Edinburgh Fringe Festival. She has been acknowledged by the Theater of New York State with acting and directing awards\, performing at the TANYS festival and Eastern States Theater Association’s Festival. She is recognized for her outstanding contributions in the world of theater and setting a high standard for excellence.\nAt the center of Suzanne’s teaching philosophy is a belief in the transformative power of acting. She is dedicated to nurturing not just the technical skills of her students but also their emotional intelligence and artistic expression. Suzanne fosters a supportive and collaborative learning environment\, encouraging students to explore their creativity and take risks in a safe space.\n\nFacebook Event | August 13    Facebook Event | August 20\n\nREGISTER HERE
URL:https://romeart.org/home/event/beyond-the-words-adult-acting-class-with-suzanne-murdock-rodio/2024-08-20/
LOCATION:Rome Art and Community Center\, 308 West Bloomfield St.\, Rome\, NY\, 13440\, United States
CATEGORIES:Class
ATTACH;FMTTYPE=image/jpeg:https://romeart.org/wp-content/uploads/2024/08/450479991_122156648828155310_4170853153800991945_n-e1723227105798.jpg
END:VEVENT
BEGIN:VEVENT
DTSTART;TZID=America/New_York:20240821T183000
DTEND;TZID=America/New_York:20240821T200000
DTSTAMP:20260425T183831
CREATED:20240618T170750Z
LAST-MODIFIED:20240618T170750Z
UID:10001048-1724265000-1724270400@romeart.org
SUMMARY:Line Dancing Class
DESCRIPTION:Every Wednesday in August at 6:30pm-8:00pm$10 for a class$35 for the whole month when you sign up in advance\nEveryone is welcome and no partner is necessary to attend our dance classes!\nCome dance in an atmosphere that fits beginners and intermediate dancers. Our instructor Kim Ocuto will lead the class creating a fun and enjoyable atmosphere to learn line dancing.
URL:https://romeart.org/home/event/line-dancing-class-3/
LOCATION:Rome Art and Community Center\, 308 West Bloomfield St.\, Rome\, NY\, 13440\, United States
CATEGORIES:dance
END:VEVENT
BEGIN:VEVENT
DTSTART;TZID=America/New_York:20240823T180000
DTEND;TZID=America/New_York:20240823T193000
DTSTAMP:20260425T183831
CREATED:20240815T201102Z
LAST-MODIFIED:20240816T180958Z
UID:10001128-1724436000-1724441400@romeart.org
SUMMARY:Karaoke Readers Theatre
DESCRIPTION:Join your host and theater enthusiast SUZANNE MURDOCK RODIO.\nAct out fun short scripts lead by Suzanne’s team of actors. \nNo experience required.\n$5 donation admission.
URL:https://romeart.org/home/event/karaoke-readers-theatre/
LOCATION:Rome Art and Community Center\, 308 West Bloomfield St.\, Rome\, NY\, 13440\, United States
CATEGORIES:Class
ATTACH;FMTTYPE=image/jpeg:https://romeart.org/wp-content/uploads/2024/08/KaraokeReaders_Event-Header-copy-2low.jpg
END:VEVENT
BEGIN:VEVENT
DTSTART;TZID=America/New_York:20240826T160000
DTEND;TZID=America/New_York:20240826T200000
DTSTAMP:20260425T183832
CREATED:20240806T182722Z
LAST-MODIFIED:20240806T183344Z
UID:10001069-1724688000-1724702400@romeart.org
SUMMARY:Market\, Music\, and More...
DESCRIPTION:For summer of 2024 we are expanding our Monday night offerings!!  We will be having live music\, children’s activities\, vendors\, and food trucks from 4-8pm every Monday from June through September.  Stay tuned to for more details. \nWe are still looking for vendors\, musicians\, sponsors\, and anyone who is interested in volunteering on the committee for planning!  For more information please email marketing@romeart.org. \nVendor Registration Form\nVendor Payment Link \n  \n 
URL:https://romeart.org/home/event/market-music-and-more-2/2024-08-26/
LOCATION:Rome Art and Community Center\, 308 West Bloomfield St.\, Rome\, NY\, 13440\, United States
CATEGORIES:Children's Events,Music
END:VEVENT
BEGIN:VEVENT
DTSTART;TZID=America/New_York:20240828T183000
DTEND;TZID=America/New_York:20240828T200000
DTSTAMP:20260425T183832
CREATED:20240618T170805Z
LAST-MODIFIED:20240618T170805Z
UID:10001049-1724869800-1724875200@romeart.org
SUMMARY:Line Dancing Class
DESCRIPTION:Every Wednesday in August at 6:30pm-8:00pm$10 for a class$35 for the whole month when you sign up in advance\nEveryone is welcome and no partner is necessary to attend our dance classes!\nCome dance in an atmosphere that fits beginners and intermediate dancers. Our instructor Kim Ocuto will lead the class creating a fun and enjoyable atmosphere to learn line dancing.
URL:https://romeart.org/home/event/line-dancing-class-4/
LOCATION:Rome Art and Community Center\, 308 West Bloomfield St.\, Rome\, NY\, 13440\, United States
CATEGORIES:dance
END:VEVENT
END:VCALENDAR